BEGIN:VCALENDAR
VERSION:2.0
X-WR-CALNAME:Veranstaltungen
METHOD:PUBLISH
BEGIN:VEVENT
CLASS:PUBLIC
CREATED:20260423T113335Z
DESCRIPTION:nullGrevenmacher/ed-8525594
DTEND;TZID="Europe/Berlin":20261026T000000
DTSTAMP:20260423T113335Z
DTSTART;TZID="Europe/Berlin":20261025T000000
LAST-MODIFIED:20260423T113335Z
LOCATION:23, rue de Trèves , Grevenmacher rue de Trèves 23 L-6793 Grevenmacher
PRIORITY:5
SEQUENCE:0
SUMMARY;LANGUAGE=de:D'Miselerland brennt - Brennertag
TRANSP:OPAQUE
UID:20260423T113335Z-uidGen@cc5241d592a4
X-MICROSOFT-CDO-BUSYSTATUS:BUSY
X-MICROSOFT-CDO-IMPORTANCE:1
X-MS-OLK-AUTOFILLLOCATION:FALSE
BEGIN:VALARM
TRIGGER:-PT1440M
ACTION:DISPLAY
DESCRIPTION:Reminder
END:VALARM
END:VEVENT
END:VCALENDAR

