BEGIN:VCALENDAR
VERSION:2.0
X-WR-CALNAME:Veranstaltungen
METHOD:PUBLISH
BEGIN:VEVENT
CLASS:PUBLIC
CREATED:20260420T083824Z
DESCRIPTION:nullWormeldange/ed-9513177
DTEND;TZID="Europe/Berlin":20260522T230000
DTSTAMP:20260420T083824Z
DTSTART;TZID="Europe/Berlin":20260522T200000
LAST-MODIFIED:20260420T083824Z
LOCATION:Domaines Vinsmoselle - Caves des Crémants POLL-FABAIRE Route du Vin 115 L-5481 Kanton Remich
PRIORITY:5
SEQUENCE:0
SUMMARY;LANGUAGE=de:Pfingstanz
TRANSP:OPAQUE
UID:20260420T083824Z-uidGen@95f8aa98cd43
X-MICROSOFT-CDO-BUSYSTATUS:BUSY
X-MICROSOFT-CDO-IMPORTANCE:1
X-MS-OLK-AUTOFILLLOCATION:FALSE
BEGIN:VALARM
TRIGGER:-PT1440M
ACTION:DISPLAY
DESCRIPTION:Reminder
END:VALARM
END:VEVENT
END:VCALENDAR

