BEGIN:VCALENDAR
VERSION:2.0
X-WR-CALNAME:Veranstaltungen
METHOD:PUBLISH
BEGIN:VEVENT
CLASS:PUBLIC
CREATED:20260420T071933Z
DESCRIPTION:nullGrevenmacher/ed-9515443
DTEND;TZID="Europe/Berlin":20260429T200000
DTSTAMP:20260420T071933Z
DTSTART;TZID="Europe/Berlin":20260429T180000
LAST-MODIFIED:20260420T071933Z
LOCATION:Miseler Kollektiv - MiKo rue de Trèves 23 L-6793 Grevenmacher
PRIORITY:5
SEQUENCE:0
SUMMARY;LANGUAGE=de:Spillowend
TRANSP:OPAQUE
UID:20260420T071933Z-uidGen@95f8aa98cd43
X-MICROSOFT-CDO-BUSYSTATUS:BUSY
X-MICROSOFT-CDO-IMPORTANCE:1
X-MS-OLK-AUTOFILLLOCATION:FALSE
BEGIN:VALARM
TRIGGER:-PT1440M
ACTION:DISPLAY
DESCRIPTION:Reminder
END:VALARM
END:VEVENT
END:VCALENDAR

