BEGIN:VCALENDAR
VERSION:2.0
X-WR-CALNAME:Veranstaltungen
METHOD:PUBLISH
BEGIN:VEVENT
CLASS:PUBLIC
CREATED:20260421T162944Z
DESCRIPTION:nullGrevenmacher/ed-9517888
DTEND;TZID="Europe/Berlin":20261107T233000
DTSTAMP:20260421T162944Z
DTSTART;TZID="Europe/Berlin":20261107T170000
LAST-MODIFIED:20260421T162944Z
LOCATION:M.S. “Princesse Marie-Astrid”  route du Vin 10 L-6794 GREVENMACHER
PRIORITY:5
SEQUENCE:0
SUMMARY;LANGUAGE=de:Whisky- & Rum Schifffahrt
TRANSP:OPAQUE
UID:20260421T162944Z-uidGen@cc5241d592a4
X-MICROSOFT-CDO-BUSYSTATUS:BUSY
X-MICROSOFT-CDO-IMPORTANCE:1
X-MS-OLK-AUTOFILLLOCATION:FALSE
BEGIN:VALARM
TRIGGER:-PT1440M
ACTION:DISPLAY
DESCRIPTION:Reminder
END:VALARM
END:VEVENT
END:VCALENDAR

