BEGIN:VCALENDAR
VERSION:2.0
X-WR-CALNAME:Veranstaltungen
METHOD:PUBLISH
BEGIN:VEVENT
CLASS:PUBLIC
CREATED:20260421T022304Z
DESCRIPTION:nullMondorf-les-bains/ed-9518287
DTEND;TZID="Europe/Berlin":20260514T210000
DTSTAMP:20260421T022304Z
DTSTART;TZID="Europe/Berlin":20260514T210000
LAST-MODIFIED:20260421T022304Z
LOCATION:CASINO 2OOO rue Flammang 5 L-5618 Mondorf-les-Bains
PRIORITY:5
SEQUENCE:0
SUMMARY;LANGUAGE=de:null
TRANSP:OPAQUE
UID:20260421T022304Z-uidGen@95f8aa98cd43
X-MICROSOFT-CDO-BUSYSTATUS:BUSY
X-MICROSOFT-CDO-IMPORTANCE:1
X-MS-OLK-AUTOFILLLOCATION:FALSE
BEGIN:VALARM
TRIGGER:-PT1440M
ACTION:DISPLAY
DESCRIPTION:Reminder
END:VALARM
END:VEVENT
END:VCALENDAR

