BEGIN:VCALENDAR
VERSION:2.0
X-WR-CALNAME:Veranstaltungen
METHOD:PUBLISH
BEGIN:VEVENT
CLASS:PUBLIC
CREATED:20260421T144913Z
DESCRIPTION:nullMertert/ed-9520468
DTEND;TZID="Europe/Berlin":20260712T160000
DTSTAMP:20260421T144913Z
DTSTART;TZID="Europe/Berlin":20260712T100000
LAST-MODIFIED:20260421T144913Z
LOCATION:Nei Mëtt Wasserbillig Moartplaz / L-6635 Wasserbillig
PRIORITY:5
SEQUENCE:0
SUMMARY;LANGUAGE=de:Markt in Wasserbillig
TRANSP:OPAQUE
UID:20260421T144913Z-uidGen@cc5241d592a4
X-MICROSOFT-CDO-BUSYSTATUS:BUSY
X-MICROSOFT-CDO-IMPORTANCE:1
X-MS-OLK-AUTOFILLLOCATION:FALSE
BEGIN:VALARM
TRIGGER:-PT1440M
ACTION:DISPLAY
DESCRIPTION:Reminder
END:VALARM
END:VEVENT
END:VCALENDAR

