BEGIN:VCALENDAR
VERSION:2.0
X-WR-CALNAME:Veranstaltungen
METHOD:PUBLISH
BEGIN:VEVENT
CLASS:PUBLIC
CREATED:20260421T022309Z
DESCRIPTION:nullMondorf-les-bains/ed-9523079
DTEND;TZID="Europe/Berlin":20260514T190000
DTSTAMP:20260421T022309Z
DTSTART;TZID="Europe/Berlin":20260514T110000
LAST-MODIFIED:20260421T022309Z
LOCATION:Parc Thermal Mondorf-les-Bains Avenue des Bains 1 L-5610 Mondorf
PRIORITY:5
SEQUENCE:0
SUMMARY;LANGUAGE=de:Musikfestival "Cristal Vibes"
TRANSP:OPAQUE
UID:20260421T022309Z-uidGen@95f8aa98cd43
X-MICROSOFT-CDO-BUSYSTATUS:BUSY
X-MICROSOFT-CDO-IMPORTANCE:1
X-MS-OLK-AUTOFILLLOCATION:FALSE
BEGIN:VALARM
TRIGGER:-PT1440M
ACTION:DISPLAY
DESCRIPTION:Reminder
END:VALARM
END:VEVENT
END:VCALENDAR

