BEGIN:VCALENDAR
VERSION:2.0
X-WR-CALNAME:Veranstaltungen
METHOD:PUBLISH
BEGIN:VEVENT
CLASS:PUBLIC
CREATED:20260422T030908Z
DESCRIPTION:nullGrevenmacher/ed-9526877
DTEND;TZID="Europe/Berlin":20260425T180000
DTSTAMP:20260422T030908Z
DTSTART;TZID="Europe/Berlin":20260425T110000
LAST-MODIFIED:20260422T030908Z
LOCATION:Grevenmacher rue de l'Ecole 1 L-6722 GREVENMACHER
PRIORITY:5
SEQUENCE:0
SUMMARY;LANGUAGE=de:Maacher Oldtimer-Dag
TRANSP:OPAQUE
UID:20260422T030908Z-uidGen@cc5241d592a4
X-MICROSOFT-CDO-BUSYSTATUS:BUSY
X-MICROSOFT-CDO-IMPORTANCE:1
X-MS-OLK-AUTOFILLLOCATION:FALSE
BEGIN:VALARM
TRIGGER:-PT1440M
ACTION:DISPLAY
DESCRIPTION:Reminder
END:VALARM
END:VEVENT
END:VCALENDAR

