BEGIN:VCALENDAR
VERSION:2.0
X-WR-CALNAME:Veranstaltungen
METHOD:PUBLISH
BEGIN:VEVENT
CLASS:PUBLIC
CREATED:20260424T204038Z
DESCRIPTION:nullRemich/ed-9538883
DTEND;TZID="Europe/Berlin":20260719T230000
DTSTAMP:20260424T204038Z
DTSTART;TZID="Europe/Berlin":20260719T113000
LAST-MODIFIED:20260424T204038Z
LOCATION:Um Gréin route du Vin * L-5549 Remich
PRIORITY:5
SEQUENCE:0
SUMMARY;LANGUAGE=de:Wiesenfest "Um Gréin" |  Harmonie Municipale Concordia Remich
TRANSP:OPAQUE
UID:20260424T204038Z-uidGen@cc5241d592a4
X-MICROSOFT-CDO-BUSYSTATUS:BUSY
X-MICROSOFT-CDO-IMPORTANCE:1
X-MS-OLK-AUTOFILLLOCATION:FALSE
BEGIN:VALARM
TRIGGER:-PT1440M
ACTION:DISPLAY
DESCRIPTION:Reminder
END:VALARM
END:VEVENT
END:VCALENDAR

